BEGIN:VCALENDAR
PRODID:-//MatrixMaxx//RemoteApi//EN
VERSION:2.0
METHOD:PUBLISH
CALSCALE:GREGORIAN
X-ORIGINAL-URL:http://www.aien.org/forms/meeting/Microsite/Webinar26April2024
BEGIN:VEVENT
SUMMARY:Live Webinar: "LNG and Hydrogen Industry Overview for Young Professionals"
LAST-MODIFIED:20240426T143000Z
UID:ci_EBAA20000006D@matrixgroup.net
CLASS:PUBLIC
CREATED:20240426T143000Z
DTSTAMP:20240426T143000Z
DTSTART:20240426T143000Z
X-FUNAMBOL-ALLDAY:1
LOCATION:Live+Webinar
DESCRIPTION:For+full+info+see+http%3A%2F%2Fwww.aien.org%2Fforms%2Fmeeting%2FMicrosite%2FWebinar26April2024%0A
X-WR-CALDESC:For+full+info+see+http%3A%2F%2Fwww.aien.org%2Fforms%2Fmeeting%2FMicrosite%2FWebinar26April2024%0A
X-WR-CALNAME:Maxx Calendar
DTEND:20240426T160000Z
URL:http://www.aien.org/forms/meeting/Microsite/Webinar26April2024
END:VEVENT
END:VCALENDAR