BEGIN:VCALENDAR
PRODID:-//MatrixMaxx//RemoteApi//EN
VERSION:2.0
METHOD:PUBLISH
CALSCALE:GREGORIAN
X-ORIGINAL-URL:http://www.aien.org/forms/meeting/Microsite/USYN19March2024
BEGIN:VEVENT
SUMMARY:AIEN-YN US Chapter Event "JOA's Nuts and Bolts: A Practical Approach for Young Negotiators"
LAST-MODIFIED:20240319T170000Z
UID:ci_E421600000035@matrixgroup.net
CLASS:PUBLIC
CREATED:20240319T170000Z
DTSTAMP:20240319T170000Z
DTSTART:20240319T170000Z
X-FUNAMBOL-ALLDAY:1
LOCATION:University+of+Houston+Law+Center
DESCRIPTION:For+full+info+see+http%3A%2F%2Fwww.aien.org%2Fforms%2Fmeeting%2FMicrosite%2FUSYN19March2024%0A
X-WR-CALDESC:For+full+info+see+http%3A%2F%2Fwww.aien.org%2Fforms%2Fmeeting%2FMicrosite%2FUSYN19March2024%0A
X-WR-CALNAME:Maxx Calendar
DTEND:20240319T180000Z
URL:http://www.aien.org/forms/meeting/Microsite/USYN19March2024
END:VEVENT
END:VCALENDAR