BEGIN:VCALENDAR
PRODID:-//MatrixMaxx//RemoteApi//EN
VERSION:2.0
METHOD:PUBLISH
CALSCALE:GREGORIAN
X-ORIGINAL-URL:http://www.aien.org/forms/meeting/Microsite/US19March2024
BEGIN:VEVENT
SUMMARY:US Chapter and CHF Event "Key Elements for the Development and Growth of a Lower Carbon Global Hydrogen Ecosystem"
LAST-MODIFIED:20240319T130000Z
UID:ci_E072E0000000D@matrixgroup.net
CLASS:PUBLIC
CREATED:20240319T130000Z
DTSTAMP:20240319T130000Z
DTSTART:20240319T130000Z
X-FUNAMBOL-ALLDAY:1
LOCATION:Gibson+Dunn+%26+Crutcher+LLP
DESCRIPTION:For+full+info+see+http%3A%2F%2Fwww.aien.org%2Fforms%2Fmeeting%2FMicrosite%2FUS19March2024%0A
X-WR-CALDESC:For+full+info+see+http%3A%2F%2Fwww.aien.org%2Fforms%2Fmeeting%2FMicrosite%2FUS19March2024%0A
X-WR-CALNAME:Maxx Calendar
DTEND:20240319T143000Z
URL:http://www.aien.org/forms/meeting/Microsite/US19March2024
END:VEVENT
END:VCALENDAR