BEGIN:VCALENDAR
PRODID:-//MatrixMaxx//RemoteApi//EN
VERSION:2.0
METHOD:PUBLISH
CALSCALE:GREGORIAN
X-ORIGINAL-URL:http://www.aien.org/forms/meeting/Microsite/Webinar23January2024
BEGIN:VEVENT
SUMMARY:Webinar: "Practical Challenges to CCS Projects in the US"
LAST-MODIFIED:20240123T150000Z
UID:ci_D7C6200000002@matrixgroup.net
CLASS:PUBLIC
CREATED:20240123T150000Z
DTSTAMP:20240123T150000Z
DTSTART:20240123T150000Z
X-FUNAMBOL-ALLDAY:1
LOCATION:Live+Webinar
DESCRIPTION:For+full+info+see+http%3A%2F%2Fwww.aien.org%2Fforms%2Fmeeting%2FMicrosite%2FWebinar23January2024%0A
X-WR-CALDESC:For+full+info+see+http%3A%2F%2Fwww.aien.org%2Fforms%2Fmeeting%2FMicrosite%2FWebinar23January2024%0A
X-WR-CALNAME:Maxx Calendar
DTEND:20240123T163000Z
URL:http://www.aien.org/forms/meeting/Microsite/Webinar23January2024
END:VEVENT
END:VCALENDAR