BEGIN:VCALENDAR
PRODID:-//MatrixMaxx//RemoteApi//EN
VERSION:2.0
METHOD:PUBLISH
CALSCALE:GREGORIAN
X-ORIGINAL-URL:http://www.aien.org/forms/meeting/MeetingFormPublic/view?id=CCF800000277
BEGIN:VEVENT
SUMMARY:Australia-Pacific Chapter Event "LNG Market Jumps: An Appetite to Invest Returns"
LAST-MODIFIED:20180509T090000Z
UID:ci_CCF800000277@matrixgroup.net
CLASS:PUBLIC
CREATED:20180509T090000Z
DTSTAMP:20180509T090000Z
DTSTART:20180509T090000Z
X-FUNAMBOL-ALLDAY:1
LOCATION:Ashurst
DESCRIPTION:For+full+info+see+http%3A%2F%2Fwww.aien.org%2Fforms%2Fmeeting%2FMeetingFormPublic%2Fview%3Fid%3DCCF800000277%0A
X-WR-CALDESC:For+full+info+see+http%3A%2F%2Fwww.aien.org%2Fforms%2Fmeeting%2FMeetingFormPublic%2Fview%3Fid%3DCCF800000277%0A
X-WR-CALNAME:Maxx Calendar
DTEND:20180509T113000Z
URL:http://www.aien.org/forms/meeting/MeetingFormPublic/view?id=CCF800000277
END:VEVENT
END:VCALENDAR