BEGIN:VCALENDAR
PRODID:-//MatrixMaxx//RemoteApi//EN
VERSION:2.0
METHOD:PUBLISH
CALSCALE:GREGORIAN
X-ORIGINAL-URL:http://www.aien.org/forms/meeting/Microsite/mena11march2018
BEGIN:VEVENT
SUMMARY:MENA Chapter Event "Overview of the Oman Oil Sector, Part 2"
LAST-MODIFIED:20180311T120000Z
UID:ci_AC1900000006@matrixgroup.net
CLASS:PUBLIC
CREATED:20180311T120000Z
DTSTAMP:20180311T120000Z
DTSTART:20180311T120000Z
X-FUNAMBOL-ALLDAY:1
LOCATION:Shangri-La+Barr+Al+Jissah+Resort+%26+Spa
DESCRIPTION:For+full+info+see+http%3A%2F%2Fwww.aien.org%2Fforms%2Fmeeting%2FMicrosite%2Fmena11march2018%0A
X-WR-CALDESC:For+full+info+see+http%3A%2F%2Fwww.aien.org%2Fforms%2Fmeeting%2FMicrosite%2Fmena11march2018%0A
X-WR-CALNAME:Maxx Calendar
DTEND:20180311T153000Z
URL:http://www.aien.org/forms/meeting/Microsite/mena11march2018
END:VEVENT
END:VCALENDAR