BEGIN:VCALENDAR
PRODID:-//MatrixMaxx//RemoteApi//EN
VERSION:2.0
METHOD:PUBLISH
CALSCALE:GREGORIAN
X-ORIGINAL-URL:http://www.aien.org/forms/meeting/Microsite/MCWS2018
BEGIN:VEVENT
SUMMARY:2018 Model Contracts Workshop
LAST-MODIFIED:20180911
UID:ci_8D290000054B@matrixgroup.net
CLASS:PUBLIC
CREATED:20180911
DTSTAMP:20180911
DTSTART:20180911
X-FUNAMBOL-ALLDAY:1
LOCATION:Hotel+Talisa
DESCRIPTION:For full info see http://www.aien.org/forms/meeting/Microsite/MCWS2018\nAIPN 2018 Model Contracts Workshop\nSeptember 11 - 14, 2018, Hotel Talisa, Vail, Colorado
DTEND:20180915
URL:http://www.aien.org/forms/meeting/Microsite/MCWS2018
END:VEVENT
END:VCALENDAR