BEGIN:VCALENDAR
PRODID:-//MatrixMaxx//RemoteApi//EN
VERSION:2.0
METHOD:PUBLISH
CALSCALE:GREGORIAN
X-ORIGINAL-URL:http://www.aien.org/forms/meeting/Microsite/US28May2026
BEGIN:VEVENT
SUMMARY:US Chapter & WAC Luncheon "The Middle East and the Future of Global Energy Markets"
LAST-MODIFIED:20260528T163000Z
UID:ci_866A3A00000001@matrixgroup.net
CLASS:PUBLIC
CREATED:20260528T163000Z
DTSTAMP:20260528T163000Z
DTSTART:20260528T163000Z
X-FUNAMBOL-ALLDAY:1
LOCATION:Latham+%26+Watkins+LLP
DESCRIPTION:For+full+info+see+http%3A%2F%2Fwww.aien.org%2Fforms%2Fmeeting%2FMicrosite%2FUS28May2026%0A
X-WR-CALDESC:For+full+info+see+http%3A%2F%2Fwww.aien.org%2Fforms%2Fmeeting%2FMicrosite%2FUS28May2026%0A
X-WR-CALNAME:Maxx Calendar
DTEND:20260528T183000Z
URL:http://www.aien.org/forms/meeting/Microsite/US28May2026
END:VEVENT
END:VCALENDAR