BEGIN:VCALENDAR
PRODID:-//MatrixMaxx//RemoteApi//EN
VERSION:2.0
METHOD:PUBLISH
CALSCALE:GREGORIAN
X-ORIGINAL-URL:http://www.aien.org/forms/meeting/Microsite/EuropeYN21May2026
BEGIN:VEVENT
SUMMARY:AIEN-YN Europe Chapter Networking Reception
LAST-MODIFIED:20260521T170000Z
UID:ci_86648F00000001@matrixgroup.net
CLASS:PUBLIC
CREATED:20260521T170000Z
DTSTAMP:20260521T170000Z
DTSTART:20260521T170000Z
X-FUNAMBOL-ALLDAY:1
LOCATION:Amazing+Grace+London+Bridge
DESCRIPTION:For full info see http://www.aien.org/forms/meeting/Microsite/EuropeYN21May2026\n
DTEND:20260521T193000Z
URL:http://www.aien.org/forms/meeting/Microsite/EuropeYN21May2026
END:VEVENT
END:VCALENDAR