BEGIN:VCALENDAR
PRODID:-//MatrixMaxx//RemoteApi//EN
VERSION:2.0
METHOD:PUBLISH
CALSCALE:GREGORIAN
X-ORIGINAL-URL:http://www.aien.org/forms/meeting/Microsite/Asia28May2026
BEGIN:VEVENT
SUMMARY:Asia Chapter Event "An Energy Mix for Reliable and Sustainable Power for the Philippines"
LAST-MODIFIED:20260528T060000Z
UID:ci_863DB100000002@matrixgroup.net
CLASS:PUBLIC
CREATED:20260528T060000Z
DTSTAMP:20260528T060000Z
DTSTART:20260528T060000Z
X-FUNAMBOL-ALLDAY:1
LOCATION:Palm+Grove
DESCRIPTION:For+full+info+see+http%3A%2F%2Fwww.aien.org%2Fforms%2Fmeeting%2FMicrosite%2FAsia28May2026%0A
X-WR-CALDESC:For+full+info+see+http%3A%2F%2Fwww.aien.org%2Fforms%2Fmeeting%2FMicrosite%2FAsia28May2026%0A
X-WR-CALNAME:Maxx Calendar
DTEND:20260528T100000Z
URL:http://www.aien.org/forms/meeting/Microsite/Asia28May2026
END:VEVENT
END:VCALENDAR