BEGIN:VCALENDAR
PRODID:-//MatrixMaxx//RemoteApi//EN
VERSION:2.0
METHOD:PUBLISH
CALSCALE:GREGORIAN
X-ORIGINAL-URL:http://www.aien.org/forms/meeting/Microsite/Africa26May2026
BEGIN:VEVENT
SUMMARY:Africa Chapter Event "Gas in Focus: What’s Changing, What’s Working, What’s Next?"
LAST-MODIFIED:20260526T090000Z
UID:ci_863CE600000002@matrixgroup.net
CLASS:PUBLIC
CREATED:20260526T090000Z
DTSTAMP:20260526T090000Z
DTSTART:20260526T090000Z
X-FUNAMBOL-ALLDAY:1
LOCATION:G.+Elias+%26+Co.
DESCRIPTION:For+full+info+see+http%3A%2F%2Fwww.aien.org%2Fforms%2Fmeeting%2FMicrosite%2FAfrica26May2026%0A
X-WR-CALDESC:For+full+info+see+http%3A%2F%2Fwww.aien.org%2Fforms%2Fmeeting%2FMicrosite%2FAfrica26May2026%0A
X-WR-CALNAME:Maxx Calendar
DTEND:20260526T130000Z
URL:http://www.aien.org/forms/meeting/Microsite/Africa26May2026
END:VEVENT
END:VCALENDAR