BEGIN:VCALENDAR
PRODID:-//MatrixMaxx//RemoteApi//EN
VERSION:2.0
METHOD:PUBLISH
CALSCALE:GREGORIAN
X-ORIGINAL-URL:http://www.aien.org/forms/meeting/Microsite/Webinar27May2026
BEGIN:VEVENT
SUMMARY:Live Webinar: "Beyond Commitments - GreenCo-Led Pathways to Net Zero and Circular Manufacturing"
LAST-MODIFIED:20260527T123000Z
UID:ci_8637B700000001@matrixgroup.net
CLASS:PUBLIC
CREATED:20260527T123000Z
DTSTAMP:20260527T123000Z
DTSTART:20260527T123000Z
X-FUNAMBOL-ALLDAY:1
LOCATION:Live+Webinar
DESCRIPTION:For full info see http://www.aien.org/forms/meeting/Microsite/Webinar27May2026\n
DTEND:20260527T134500Z
URL:http://www.aien.org/forms/meeting/Microsite/Webinar27May2026
END:VEVENT
END:VCALENDAR