BEGIN:VCALENDAR
PRODID:-//MatrixMaxx//RemoteApi//EN
VERSION:2.0
METHOD:PUBLISH
CALSCALE:GREGORIAN
X-ORIGINAL-URL:http://www.aien.org/forms/meeting/Microsite/LARC30April2026
BEGIN:VEVENT
SUMMARY:Latin America & Caribbean Chapter Event "Hot Topics of the JOA in Civil Law Jurisdictions: A Brazilian Perspective"
LAST-MODIFIED:20260430T113000Z
UID:ci_822CF800000078@matrixgroup.net
CLASS:PUBLIC
CREATED:20260430T113000Z
DTSTAMP:20260430T113000Z
DTSTART:20260430T113000Z
X-FUNAMBOL-ALLDAY:1
LOCATION:Campos+Mello+Advogados
DESCRIPTION:For+full+info+see+http%3A%2F%2Fwww.aien.org%2Fforms%2Fmeeting%2FMicrosite%2FLARC30April2026%0A
X-WR-CALDESC:For+full+info+see+http%3A%2F%2Fwww.aien.org%2Fforms%2Fmeeting%2FMicrosite%2FLARC30April2026%0A
X-WR-CALNAME:Maxx Calendar
DTEND:20260430T140000Z
URL:http://www.aien.org/forms/meeting/Microsite/LARC30April2026
END:VEVENT
END:VCALENDAR