BEGIN:VCALENDAR
PRODID:-//MatrixMaxx//RemoteApi//EN
VERSION:2.0
METHOD:PUBLISH
CALSCALE:GREGORIAN
X-ORIGINAL-URL:http://www.aien.org/forms/meeting/Microsite/US27January2026
BEGIN:VEVENT
SUMMARY:US Chapter Event "What can go Wrong? Above Ground Risk Analysis for New and Returning Country Entrants"
LAST-MODIFIED:20260127T203000Z
UID:ci_782E1E00000001@matrixgroup.net
CLASS:PUBLIC
CREATED:20260127T203000Z
DTSTAMP:20260127T203000Z
DTSTART:20260127T203000Z
X-FUNAMBOL-ALLDAY:1
LOCATION:Clifford+Chance
DESCRIPTION:For+full+info+see+http%3A%2F%2Fwww.aien.org%2Fforms%2Fmeeting%2FMicrosite%2FUS27January2026%0A
X-WR-CALDESC:For+full+info+see+http%3A%2F%2Fwww.aien.org%2Fforms%2Fmeeting%2FMicrosite%2FUS27January2026%0A
X-WR-CALNAME:Maxx Calendar
DTEND:20260128T000000Z
URL:http://www.aien.org/forms/meeting/Microsite/US27January2026
END:VEVENT
END:VCALENDAR