BEGIN:VCALENDAR
PRODID:-//MatrixMaxx//RemoteApi//EN
VERSION:2.0
METHOD:PUBLISH
CALSCALE:GREGORIAN
X-ORIGINAL-URL:http://www.aien.org/forms/meeting/Microsite/Webinar28January2026
BEGIN:VEVENT
SUMMARY:Live Webinar: "Energy Efficiency as the Backbone of India’s Carbon Markets - Economics, Scale, and Sustainability"
LAST-MODIFIED:20260128T123000Z
UID:ci_77BAA100000002@matrixgroup.net
CLASS:PUBLIC
CREATED:20260128T123000Z
DTSTAMP:20260128T123000Z
DTSTART:20260128T123000Z
X-FUNAMBOL-ALLDAY:1
LOCATION:Live+Webinar
DESCRIPTION:For full info see http://www.aien.org/forms/meeting/Microsite/Webinar28January2026\n
DTEND:20260128T134500Z
URL:http://www.aien.org/forms/meeting/Microsite/Webinar28January2026
END:VEVENT
END:VCALENDAR