BEGIN:VCALENDAR
PRODID:-//MatrixMaxx//RemoteApi//EN
VERSION:2.0
METHOD:PUBLISH
CALSCALE:GREGORIAN
X-ORIGINAL-URL:http://www.aien.org/forms/meeting/Microsite/US21January2026
BEGIN:VEVENT
SUMMARY:US Chapter Luncheon "Global LNG Outlook for 2026: Navigating Market Shifts and New Growth Frontiers"
LAST-MODIFIED:20260121T173000Z
UID:ci_7561AC00000002@matrixgroup.net
CLASS:PUBLIC
CREATED:20260121T173000Z
DTSTAMP:20260121T173000Z
DTSTART:20260121T173000Z
X-FUNAMBOL-ALLDAY:1
LOCATION:Shell
DESCRIPTION:For full info see http://www.aien.org/forms/meeting/Microsite/US21January2026\n
DTEND:20260121T193000Z
URL:http://www.aien.org/forms/meeting/Microsite/US21January2026
END:VEVENT
END:VCALENDAR