BEGIN:VCALENDAR
PRODID:-//MatrixMaxx//RemoteApi//EN
VERSION:2.0
METHOD:PUBLISH
CALSCALE:GREGORIAN
X-ORIGINAL-URL:http://www.aien.org/forms/meeting/Microsite/Asia10December2025
BEGIN:VEVENT
SUMMARY:Asia Chapter Reception Singapore
LAST-MODIFIED:20251209T223000Z
UID:ci_7233DF00000002@matrixgroup.net
CLASS:PUBLIC
CREATED:20251209T223000Z
DTSTAMP:20251209T223000Z
DTSTART:20251209T223000Z
X-FUNAMBOL-ALLDAY:1
LOCATION:Dallas+Restaurant+and+Bar
DESCRIPTION:For+full+info+see+http%3A%2F%2Fwww.aien.org%2Fforms%2Fmeeting%2FMicrosite%2FAsia10December2025%0A
X-WR-CALDESC:For+full+info+see+http%3A%2F%2Fwww.aien.org%2Fforms%2Fmeeting%2FMicrosite%2FAsia10December2025%0A
X-WR-CALNAME:Maxx Calendar
DTEND:20251210T133000Z
URL:http://www.aien.org/forms/meeting/Microsite/Asia10December2025
END:VEVENT
END:VCALENDAR