BEGIN:VCALENDAR
PRODID:-//MatrixMaxx//RemoteApi//EN
VERSION:2.0
METHOD:PUBLISH
CALSCALE:GREGORIAN
X-ORIGINAL-URL:http://www.aien.org/forms/meeting/Microsite/Asia5December2025
BEGIN:VEVENT
SUMMARY:Asia Chapter Reception Kuala Lumpur
LAST-MODIFIED:20251205T100000Z
UID:ci_72303600000001@matrixgroup.net
CLASS:PUBLIC
CREATED:20251205T100000Z
DTSTAMP:20251205T100000Z
DTSTART:20251205T100000Z
X-FUNAMBOL-ALLDAY:1
LOCATION:WIP+On+The+Park%2C+Botanical+Room
DESCRIPTION:For full info see http://www.aien.org/forms/meeting/Microsite/Asia5December2025\n
DTEND:20251205T120000Z
URL:http://www.aien.org/forms/meeting/Microsite/Asia5December2025
END:VEVENT
END:VCALENDAR