BEGIN:VCALENDAR
PRODID:-//MatrixMaxx//RemoteApi//EN
VERSION:2.0
METHOD:PUBLISH
CALSCALE:GREGORIAN
X-ORIGINAL-URL:http://www.aien.org/forms/meeting/Microsite/Europe16December2025
BEGIN:VEVENT
SUMMARY:Europe Chapter Holiday Reception
LAST-MODIFIED:20251216T170000Z
UID:ci_6FC84800000002@matrixgroup.net
CLASS:PUBLIC
CREATED:20251216T170000Z
DTSTAMP:20251216T170000Z
DTSTART:20251216T170000Z
X-FUNAMBOL-ALLDAY:1
LOCATION:Mayer+Brown+International+LLP
DESCRIPTION:For+full+info+see+http%3A%2F%2Fwww.aien.org%2Fforms%2Fmeeting%2FMicrosite%2FEurope16December2025%0A
X-WR-CALDESC:For+full+info+see+http%3A%2F%2Fwww.aien.org%2Fforms%2Fmeeting%2FMicrosite%2FEurope16December2025%0A
X-WR-CALNAME:Maxx Calendar
DTEND:20251216T210000Z
URL:http://www.aien.org/forms/meeting/Microsite/Europe16December2025
END:VEVENT
END:VCALENDAR