BEGIN:VCALENDAR
PRODID:-//MatrixMaxx//RemoteApi//EN
VERSION:2.0
METHOD:PUBLISH
CALSCALE:GREGORIAN
X-ORIGINAL-URL:http://www.aien.org/forms/meeting/Microsite/EuropeParis4December2025
BEGIN:VEVENT
SUMMARY:Europe Chapter Hybrid Event "World Energy Outlooks"
LAST-MODIFIED:20251204T170000Z
UID:ci_6FC72B00000001@matrixgroup.net
CLASS:PUBLIC
CREATED:20251204T170000Z
DTSTAMP:20251204T170000Z
DTSTART:20251204T170000Z
X-FUNAMBOL-ALLDAY:1
LOCATION:In-Person+Event+and+Live+Webinar
DESCRIPTION:For+full+info+see+http%3A%2F%2Fwww.aien.org%2Fforms%2Fmeeting%2FMicrosite%2FEuropeParis4December2025%0A
X-WR-CALDESC:For+full+info+see+http%3A%2F%2Fwww.aien.org%2Fforms%2Fmeeting%2FMicrosite%2FEuropeParis4December2025%0A
X-WR-CALNAME:Maxx Calendar
DTEND:20251204T193000Z
URL:http://www.aien.org/forms/meeting/Microsite/EuropeParis4December2025
END:VEVENT
END:VCALENDAR