BEGIN:VCALENDAR
PRODID:-//MatrixMaxx//RemoteApi//EN
VERSION:2.0
METHOD:PUBLISH
CALSCALE:GREGORIAN
X-ORIGINAL-URL:http://www.aien.org/forms/meeting/Microsite/LARC27November2025
BEGIN:VEVENT
SUMMARY:Latin America & Caribbean Chapter Event "COP30 Brazil Amazonia: Debrief and Perspectives for the Energy Sector"
LAST-MODIFIED:20251127T113000Z
UID:ci_6FC3FD00000002@matrixgroup.net
CLASS:PUBLIC
CREATED:20251127T113000Z
DTSTAMP:20251127T113000Z
DTSTART:20251127T113000Z
X-FUNAMBOL-ALLDAY:1
LOCATION:Lagoa+Corporate
DESCRIPTION:For+full+info+see+http%3A%2F%2Fwww.aien.org%2Fforms%2Fmeeting%2FMicrosite%2FLARC27November2025%0A
X-WR-CALDESC:For+full+info+see+http%3A%2F%2Fwww.aien.org%2Fforms%2Fmeeting%2FMicrosite%2FLARC27November2025%0A
X-WR-CALNAME:Maxx Calendar
DTEND:20251127T140000Z
URL:http://www.aien.org/forms/meeting/Microsite/LARC27November2025
END:VEVENT
END:VCALENDAR