BEGIN:VCALENDAR
PRODID:-//MatrixMaxx//RemoteApi//EN
VERSION:2.0
METHOD:PUBLISH
CALSCALE:GREGORIAN
X-ORIGINAL-URL:http://www.aien.org/forms/meeting/Microsite/Asia19November2025
BEGIN:VEVENT
SUMMARY:Asia Chapter Event "Vietnam Energy Sector - Opportunities and Challenges"
LAST-MODIFIED:20251119T100000Z
UID:ci_6AC7AA00000001@matrixgroup.net
CLASS:PUBLIC
CREATED:20251119T100000Z
DTSTAMP:20251119T100000Z
DTSTART:20251119T100000Z
X-FUNAMBOL-ALLDAY:1
LOCATION:Jones+Day
DESCRIPTION:For full info see http://www.aien.org/forms/meeting/Microsite/Asia19November2025\n
DTEND:20251119T130000Z
URL:http://www.aien.org/forms/meeting/Microsite/Asia19November2025
END:VEVENT
END:VCALENDAR