BEGIN:VCALENDAR
PRODID:-//MatrixMaxx//RemoteApi//EN
VERSION:2.0
METHOD:PUBLISH
CALSCALE:GREGORIAN
X-ORIGINAL-URL:http://www.aien.org/forms/meeting/Microsite/LARC11November2025
BEGIN:VEVENT
SUMMARY:Latin America & Caribbean Chapter Event "Energy Security: Challenges and Opportunities in Perú"
LAST-MODIFIED:20251111T130000Z
UID:ci_6A18FA00000002@matrixgroup.net
CLASS:PUBLIC
CREATED:20251111T130000Z
DTSTAMP:20251111T130000Z
DTSTART:20251111T130000Z
X-FUNAMBOL-ALLDAY:1
LOCATION:Repsol+Per%C3%BA
DESCRIPTION:For+full+info+see+http%3A%2F%2Fwww.aien.org%2Fforms%2Fmeeting%2FMicrosite%2FLARC11November2025%0A
X-WR-CALDESC:For+full+info+see+http%3A%2F%2Fwww.aien.org%2Fforms%2Fmeeting%2FMicrosite%2FLARC11November2025%0A
X-WR-CALNAME:Maxx Calendar
DTEND:20251111T150000Z
URL:http://www.aien.org/forms/meeting/Microsite/LARC11November2025
END:VEVENT
END:VCALENDAR