BEGIN:VCALENDAR
PRODID:-//MatrixMaxx//RemoteApi//EN
VERSION:2.0
METHOD:PUBLISH
CALSCALE:GREGORIAN
X-ORIGINAL-URL:http://www.aien.org/forms/meeting/Microsite/Webinar5November2025
BEGIN:VEVENT
SUMMARY:Live Webinar "Hydrogen Taskforce: Final Touchbase"
LAST-MODIFIED:20251105T150000Z
UID:ci_69FCE200000001@matrixgroup.net
CLASS:PUBLIC
CREATED:20251105T150000Z
DTSTAMP:20251105T150000Z
DTSTART:20251105T150000Z
X-FUNAMBOL-ALLDAY:1
LOCATION:Live+Webinar
DESCRIPTION:For full info see http://www.aien.org/forms/meeting/Microsite/Webinar5November2025\n
DTEND:20251105T160000Z
URL:http://www.aien.org/forms/meeting/Microsite/Webinar5November2025
END:VEVENT
END:VCALENDAR