BEGIN:VCALENDAR
PRODID:-//MatrixMaxx//RemoteApi//EN
VERSION:2.0
METHOD:PUBLISH
CALSCALE:GREGORIAN
X-ORIGINAL-URL:http://www.aien.org/forms/meeting/Microsite/Asia6November2025
BEGIN:VEVENT
SUMMARY:Asia Chapter Event "Strengthening Thailand’s Energy Supply Chain: Strategy, Cost, and Collaboration"
LAST-MODIFIED:20251106T110000Z
UID:ci_69F90A00000079@matrixgroup.net
CLASS:PUBLIC
CREATED:20251106T110000Z
DTSTAMP:20251106T110000Z
DTSTART:20251106T110000Z
X-FUNAMBOL-ALLDAY:1
LOCATION:The+Conservatory%2C+W+Bangkok
DESCRIPTION:For+full+info+see+http%3A%2F%2Fwww.aien.org%2Fforms%2Fmeeting%2FMicrosite%2FAsia6November2025%0A
X-WR-CALDESC:For+full+info+see+http%3A%2F%2Fwww.aien.org%2Fforms%2Fmeeting%2FMicrosite%2FAsia6November2025%0A
X-WR-CALNAME:Maxx Calendar
DTEND:20251106T140000Z
URL:http://www.aien.org/forms/meeting/Microsite/Asia6November2025
END:VEVENT
END:VCALENDAR