BEGIN:VCALENDAR
PRODID:-//MatrixMaxx//RemoteApi//EN
VERSION:2.0
METHOD:PUBLISH
CALSCALE:GREGORIAN
X-ORIGINAL-URL:http://www.aien.org/forms/meeting/Microsite/LARC2October2025
BEGIN:VEVENT
SUMMARY:Latin America & Caribbean Chapter Event "Diversity in Action: Building Conflict-Resilient Agreements Beyond the BATNA Threshold"
LAST-MODIFIED:20251002T110000Z
UID:ci_66BDE400000001@matrixgroup.net
CLASS:PUBLIC
CREATED:20251002T110000Z
DTSTAMP:20251002T110000Z
DTSTART:20251002T110000Z
X-FUNAMBOL-ALLDAY:1
LOCATION:Fairmont+Hotel%2C+Terrace+Room
DESCRIPTION:For+full+info+see+http%3A%2F%2Fwww.aien.org%2Fforms%2Fmeeting%2FMicrosite%2FLARC2October2025%0A
X-WR-CALDESC:For+full+info+see+http%3A%2F%2Fwww.aien.org%2Fforms%2Fmeeting%2FMicrosite%2FLARC2October2025%0A
X-WR-CALNAME:Maxx Calendar
DTEND:20251002T120000Z
URL:http://www.aien.org/forms/meeting/Microsite/LARC2October2025
END:VEVENT
END:VCALENDAR