BEGIN:VCALENDAR
PRODID:-//MatrixMaxx//RemoteApi//EN
VERSION:2.0
METHOD:PUBLISH
CALSCALE:GREGORIAN
X-ORIGINAL-URL:http://www.aien.org/forms/meeting/Microsite/Europe13November2025
BEGIN:VEVENT
SUMMARY:Europe Chapter Hybrid Event "Comparative Decommissioning Issues: Focus on Far East and Africa"
LAST-MODIFIED:20251113T170000Z
UID:ci_645D4000000093@matrixgroup.net
CLASS:PUBLIC
CREATED:20251113T170000Z
DTSTAMP:20251113T170000Z
DTSTART:20251113T170000Z
X-FUNAMBOL-ALLDAY:1
LOCATION:In-Person+Event+and+Live+Webinar
DESCRIPTION:For full info see http://www.aien.org/forms/meeting/Microsite/Europe13November2025\n
DTEND:20251113T203000Z
URL:http://www.aien.org/forms/meeting/Microsite/Europe13November2025
END:VEVENT
END:VCALENDAR