BEGIN:VCALENDAR
PRODID:-//MatrixMaxx//RemoteApi//EN
VERSION:2.0
METHOD:PUBLISH
CALSCALE:GREGORIAN
X-ORIGINAL-URL:http://www.aien.org/forms/meeting/Microsite/Asia29August2025
BEGIN:VEVENT
SUMMARY:Asia Chapter Event "Insights Into Negotiations: Philippine and Regional Context"
LAST-MODIFIED:20250829T070000Z
UID:ci_60C03F00000001@matrixgroup.net
CLASS:PUBLIC
CREATED:20250829T070000Z
DTSTAMP:20250829T070000Z
DTSTART:20250829T070000Z
X-FUNAMBOL-ALLDAY:1
LOCATION:PNOC+Networking+Hall
DESCRIPTION:For+full+info+see+http%3A%2F%2Fwww.aien.org%2Fforms%2Fmeeting%2FMicrosite%2FAsia29August2025%0A
X-WR-CALDESC:For+full+info+see+http%3A%2F%2Fwww.aien.org%2Fforms%2Fmeeting%2FMicrosite%2FAsia29August2025%0A
X-WR-CALNAME:Maxx Calendar
DTEND:20250829T090000Z
URL:http://www.aien.org/forms/meeting/Microsite/Asia29August2025
END:VEVENT
END:VCALENDAR