BEGIN:VCALENDAR
PRODID:-//MatrixMaxx//RemoteApi//EN
VERSION:2.0
METHOD:PUBLISH
CALSCALE:GREGORIAN
X-ORIGINAL-URL:http://www.aien.org/forms/meeting/Microsite/Webinar30September2025
BEGIN:VEVENT
SUMMARY:Live Webinar: "The Future of Funding: Financing CCUS Projects in North America in 2025 and Beyond"
LAST-MODIFIED:20250930T140000Z
UID:ci_5F509600000002@matrixgroup.net
CLASS:PUBLIC
CREATED:20250930T140000Z
DTSTAMP:20250930T140000Z
DTSTART:20250930T140000Z
X-FUNAMBOL-ALLDAY:1
LOCATION:Live+Webinar
DESCRIPTION:For+full+info+see+http%3A%2F%2Fwww.aien.org%2Fforms%2Fmeeting%2FMicrosite%2FWebinar30September2025%0A
X-WR-CALDESC:For+full+info+see+http%3A%2F%2Fwww.aien.org%2Fforms%2Fmeeting%2FMicrosite%2FWebinar30September2025%0A
X-WR-CALNAME:Maxx Calendar
DTEND:20250930T153000Z
URL:http://www.aien.org/forms/meeting/Microsite/Webinar30September2025
END:VEVENT
END:VCALENDAR