BEGIN:VCALENDAR
PRODID:-//MatrixMaxx//RemoteApi//EN
VERSION:2.0
METHOD:PUBLISH
CALSCALE:GREGORIAN
X-ORIGINAL-URL:http://www.aien.org/forms/meeting/Microsite/LARC19August2025
BEGIN:VEVENT
SUMMARY:Latin America & Caribbean Chapter Event "Brazil's New Emission Trading Scheme: Impacts in the Energy Sector"
LAST-MODIFIED:20250819T120000Z
UID:ci_5DE36D00000001@matrixgroup.net
CLASS:PUBLIC
CREATED:20250819T120000Z
DTSTAMP:20250819T120000Z
DTSTART:20250819T120000Z
X-FUNAMBOL-ALLDAY:1
LOCATION:Trench+Rossi+Watanabe+Advogados
DESCRIPTION:For+full+info+see+http%3A%2F%2Fwww.aien.org%2Fforms%2Fmeeting%2FMicrosite%2FLARC19August2025%0A
X-WR-CALDESC:For+full+info+see+http%3A%2F%2Fwww.aien.org%2Fforms%2Fmeeting%2FMicrosite%2FLARC19August2025%0A
X-WR-CALNAME:Maxx Calendar
DTEND:20250819T143000Z
URL:http://www.aien.org/forms/meeting/Microsite/LARC19August2025
END:VEVENT
END:VCALENDAR