BEGIN:VCALENDAR
PRODID:-//MatrixMaxx//RemoteApi//EN
VERSION:2.0
METHOD:PUBLISH
CALSCALE:GREGORIAN
X-ORIGINAL-URL:http://www.aien.org/forms/meeting/Microsite/IES2026
BEGIN:VEVENT
SUMMARY:AIEN 2026 International Energy Summit
LAST-MODIFIED:20260602
UID:ci_585AF200000001@matrixgroup.net
CLASS:PUBLIC
CREATED:20260602
DTSTAMP:20260602
DTSTART:20260602
X-FUNAMBOL-ALLDAY:1
LOCATION:Royal+Sonesta+Hotel
DESCRIPTION:For full info see http://www.aien.org/forms/meeting/Microsite/IES2026\n2026 AIEN International Conference \nJune 2 - 4, 2026\nRoyal Sonesta Hotel
DTEND:20260605
URL:http://www.aien.org/forms/meeting/Microsite/IES2026
END:VEVENT
END:VCALENDAR