BEGIN:VCALENDAR
PRODID:-//MatrixMaxx//RemoteApi//EN
VERSION:2.0
METHOD:PUBLISH
CALSCALE:GREGORIAN
X-ORIGINAL-URL:http://www.aien.org/forms/meeting/Microsite/NSWS2025
BEGIN:VEVENT
SUMMARY:2025 Negotiation Skills Workshop
LAST-MODIFIED:20251118
UID:ci_513A5100000002@matrixgroup.net
CLASS:PUBLIC
CREATED:20251118
DTSTAMP:20251118
DTSTART:20251118
X-FUNAMBOL-ALLDAY:1
LOCATION:Kempinski+Hotel+Gold+Coast+City
DESCRIPTION:For full info see http://www.aien.org/forms/meeting/Microsite/NSWS2025\nAIEN Negotiation Skills Workshop\nNovember 18 - 20, 2025\nKempinski Hotel Gold Coast City Accra
DTEND:20251121
URL:http://www.aien.org/forms/meeting/Microsite/NSWS2025
END:VEVENT
END:VCALENDAR