BEGIN:VCALENDAR
PRODID:-//MatrixMaxx//RemoteApi//EN
VERSION:2.0
METHOD:PUBLISH
CALSCALE:GREGORIAN
X-ORIGINAL-URL:http://www.aien.org/forms/meeting/Microsite/Asia29May2025
BEGIN:VEVENT
SUMMARY:Asia Chapter Event "Upstream SE Asia: Rethinking the Player Mix in Southeast Asia's Oil and Gas, What’s Next?"
LAST-MODIFIED:20250529T103000Z
UID:ci_5057B300000144@matrixgroup.net
CLASS:PUBLIC
CREATED:20250529T103000Z
DTSTAMP:20250529T103000Z
DTSTART:20250529T103000Z
X-FUNAMBOL-ALLDAY:1
LOCATION:Spaces
DESCRIPTION:For full info see http://www.aien.org/forms/meeting/Microsite/Asia29May2025\n
DTEND:20250529T113000Z
URL:http://www.aien.org/forms/meeting/Microsite/Asia29May2025
END:VEVENT
END:VCALENDAR