BEGIN:VCALENDAR
PRODID:-//MatrixMaxx//RemoteApi//EN
VERSION:2.0
METHOD:PUBLISH
CALSCALE:GREGORIAN
X-ORIGINAL-URL:http://www.aien.org/forms/meeting/Microsite/LARC23May2025
BEGIN:VEVENT
SUMMARY:Latin America & Caribbean Chapter Event "CEO Series - The Impact of Geopolitics in the Energy Sector"
LAST-MODIFIED:20250523T123000Z
UID:ci_50338E00000001@matrixgroup.net
CLASS:PUBLIC
CREATED:20250523T123000Z
DTSTAMP:20250523T123000Z
DTSTART:20250523T123000Z
X-FUNAMBOL-ALLDAY:1
LOCATION:Mattos+Filho
DESCRIPTION:For+full+info+see+http%3A%2F%2Fwww.aien.org%2Fforms%2Fmeeting%2FMicrosite%2FLARC23May2025%0A
X-WR-CALDESC:For+full+info+see+http%3A%2F%2Fwww.aien.org%2Fforms%2Fmeeting%2FMicrosite%2FLARC23May2025%0A
X-WR-CALNAME:Maxx Calendar
DTEND:20250523T143000Z
URL:http://www.aien.org/forms/meeting/Microsite/LARC23May2025
END:VEVENT
END:VCALENDAR