BEGIN:VCALENDAR
PRODID:-//MatrixMaxx//RemoteApi//EN
VERSION:2.0
METHOD:PUBLISH
CALSCALE:GREGORIAN
X-ORIGINAL-URL:http://www.aien.org/forms/meeting/Microsite/Webinar1May2025
BEGIN:VEVENT
SUMMARY:Live Webinar: "Evolving Enforcement Trends in the Trump Administration - What it Means for the Energy Industry"
LAST-MODIFIED:20250501T130000Z
UID:ci_4B1FE000000002@matrixgroup.net
CLASS:PUBLIC
CREATED:20250501T130000Z
DTSTAMP:20250501T130000Z
DTSTART:20250501T130000Z
X-FUNAMBOL-ALLDAY:1
LOCATION:Live+Webinar
DESCRIPTION:For+full+info+see+http%3A%2F%2Fwww.aien.org%2Fforms%2Fmeeting%2FMicrosite%2FWebinar1May2025%0A
X-WR-CALDESC:For+full+info+see+http%3A%2F%2Fwww.aien.org%2Fforms%2Fmeeting%2FMicrosite%2FWebinar1May2025%0A
X-WR-CALNAME:Maxx Calendar
DTEND:20250501T140000Z
URL:http://www.aien.org/forms/meeting/Microsite/Webinar1May2025
END:VEVENT
END:VCALENDAR