BEGIN:VCALENDAR
PRODID:-//MatrixMaxx//RemoteApi//EN
VERSION:2.0
METHOD:PUBLISH
CALSCALE:GREGORIAN
X-ORIGINAL-URL:http://www.aien.org/forms/meeting/Microsite/US1April2025
BEGIN:VEVENT
SUMMARY:US Chapter Luncheon "Commercial Ecosystem for SMR & Fuel Recycling"
LAST-MODIFIED:20250401T163000Z
UID:ci_454B5200000002@matrixgroup.net
CLASS:PUBLIC
CREATED:20250401T163000Z
DTSTAMP:20250401T163000Z
DTSTART:20250401T163000Z
X-FUNAMBOL-ALLDAY:1
LOCATION:White+%26+Case+LLP
DESCRIPTION:For+full+info+see+http%3A%2F%2Fwww.aien.org%2Fforms%2Fmeeting%2FMicrosite%2FUS1April2025%0A
X-WR-CALDESC:For+full+info+see+http%3A%2F%2Fwww.aien.org%2Fforms%2Fmeeting%2FMicrosite%2FUS1April2025%0A
X-WR-CALNAME:Maxx Calendar
DTEND:20250401T180000Z
URL:http://www.aien.org/forms/meeting/Microsite/US1April2025
END:VEVENT
END:VCALENDAR