BEGIN:VCALENDAR
PRODID:-//MatrixMaxx//RemoteApi//EN
VERSION:2.0
METHOD:PUBLISH
CALSCALE:GREGORIAN
X-ORIGINAL-URL:http://www.aien.org/forms/meeting/Microsite/US28March2025
BEGIN:VEVENT
SUMMARY:US Chapter Event "Navigating the Energy Transition: Legal & Industry Perspectives"
LAST-MODIFIED:20250328T180000Z
UID:ci_4162F600000001@matrixgroup.net
CLASS:PUBLIC
CREATED:20250328T180000Z
DTSTAMP:20250328T180000Z
DTSTART:20250328T180000Z
X-FUNAMBOL-ALLDAY:1
LOCATION:Washington+University+Law+Center%2C+Bryan+Cave+Moot+Courtroom
DESCRIPTION:For+full+info+see+http%3A%2F%2Fwww.aien.org%2Fforms%2Fmeeting%2FMicrosite%2FUS28March2025%0A
X-WR-CALDESC:For+full+info+see+http%3A%2F%2Fwww.aien.org%2Fforms%2Fmeeting%2FMicrosite%2FUS28March2025%0A
X-WR-CALNAME:Maxx Calendar
DTEND:20250328T200000Z
URL:http://www.aien.org/forms/meeting/Microsite/US28March2025
END:VEVENT
END:VCALENDAR