BEGIN:VCALENDAR
PRODID:-//MatrixMaxx//RemoteApi//EN
VERSION:2.0
METHOD:PUBLISH
CALSCALE:GREGORIAN
X-ORIGINAL-URL:http://www.aien.org/forms/meeting/Microsite/Europe12December2024
BEGIN:VEVENT
SUMMARY:Europe Chapter Hybrid Event "Perspectives on Allocation of Risk in Energy Projects and Services: Oil and Gas to Renewables"
LAST-MODIFIED:20241212T170000Z
UID:ci_3375A200000002@matrixgroup.net
CLASS:PUBLIC
CREATED:20241212T170000Z
DTSTAMP:20241212T170000Z
DTSTART:20241212T170000Z
X-FUNAMBOL-ALLDAY:1
LOCATION:In-Person+Event+and+Live+Webinar
DESCRIPTION:For+full+info+see+http%3A%2F%2Fwww.aien.org%2Fforms%2Fmeeting%2FMicrosite%2FEurope12December2024%0A
X-WR-CALDESC:For+full+info+see+http%3A%2F%2Fwww.aien.org%2Fforms%2Fmeeting%2FMicrosite%2FEurope12December2024%0A
X-WR-CALNAME:Maxx Calendar
DTEND:20241212T200000Z
URL:http://www.aien.org/forms/meeting/Microsite/Europe12December2024
END:VEVENT
END:VCALENDAR