BEGIN:VCALENDAR
PRODID:-//MatrixMaxx//RemoteApi//EN
VERSION:2.0
METHOD:PUBLISH
CALSCALE:GREGORIAN
X-ORIGINAL-URL:http://www.aien.org/forms/meeting/Microsite/Asia4December2024
BEGIN:VEVENT
SUMMARY:Asia Chapter Reception Kuala Lumpur
LAST-MODIFIED:20241204T090000Z
UID:ci_31060100000002@matrixgroup.net
CLASS:PUBLIC
CREATED:20241204T090000Z
DTSTAMP:20241204T090000Z
DTSTART:20241204T090000Z
X-FUNAMBOL-ALLDAY:1
LOCATION:The+Alchemy+Bar+%28JW+Marriott+Hotel%29
DESCRIPTION:For full info see http://www.aien.org/forms/meeting/Microsite/Asia4December2024\n
DTEND:20241204T123000Z
URL:http://www.aien.org/forms/meeting/Microsite/Asia4December2024
END:VEVENT
END:VCALENDAR