BEGIN:VCALENDAR
PRODID:-//MatrixMaxx//RemoteApi//EN
VERSION:2.0
METHOD:PUBLISH
CALSCALE:GREGORIAN
X-ORIGINAL-URL:http://www.aien.org/forms/meeting/Microsite/US19March2019
BEGIN:VEVENT
SUMMARY:AIPN-YN US Chapter Breakfast Speaker Series "Energy Reform & Fight Against Corruption"
LAST-MODIFIED:20190319T123000Z
UID:ci_167A50000028B@matrixgroup.net
CLASS:PUBLIC
CREATED:20190319T123000Z
DTSTAMP:20190319T123000Z
DTSTART:20190319T123000Z
X-FUNAMBOL-ALLDAY:1
LOCATION:Two+Allen+Center
DESCRIPTION:For full info see http://www.aien.org/forms/meeting/Microsite/US19March2019\n
DTEND:20190319T140000Z
URL:http://www.aien.org/forms/meeting/Microsite/US19March2019
END:VEVENT
END:VCALENDAR