BEGIN:VCALENDAR
PRODID:-//MatrixMaxx//RemoteApi//EN
VERSION:2.0
METHOD:PUBLISH
CALSCALE:GREGORIAN
X-ORIGINAL-URL:http://www.aien.org/forms/meeting/Microsite/IPS2021
BEGIN:VEVENT
SUMMARY:AIPN 2021 International Petroleum Summit
LAST-MODIFIED:20211129
UID:ci_1488400000193@matrixgroup.net
CLASS:PUBLIC
CREATED:20211129
DTSTAMP:20211129
DTSTART:20211129
X-FUNAMBOL-ALLDAY:1
LOCATION:Virtual+Conference
DESCRIPTION:For+full+info+see+http%3A%2F%2Fwww.aien.org%2Fforms%2Fmeeting%2FMicrosite%2FIPS2021%0A
X-WR-CALDESC:For+full+info+see+http%3A%2F%2Fwww.aien.org%2Fforms%2Fmeeting%2FMicrosite%2FIPS2021%0A
X-WR-CALNAME:Maxx Calendar
DTEND:20211202
URL:http://www.aien.org/forms/meeting/Microsite/IPS2021
END:VEVENT
END:VCALENDAR